BEGIN:VCALENDAR
VERSION:2.0
PRODID:-//Young Avenue Deli : Cooper-Young, Memphis - ECPv5.7.0//NONSGML v1.0//EN
CALSCALE:GREGORIAN
METHOD:PUBLISH
X-WR-CALNAME:Young Avenue Deli : Cooper-Young, Memphis
X-ORIGINAL-URL:https://www.youngavenuedeli.com
X-WR-CALDESC:Events for Young Avenue Deli : Cooper-Young, Memphis
BEGIN:VTIMEZONE
TZID:America/Chicago
BEGIN:DAYLIGHT
TZOFFSETFROM:-0600
TZOFFSETTO:-0500
TZNAME:CDT
DTSTART:20190310T080000
END:DAYLIGHT
BEGIN:STANDARD
TZOFFSETFROM:-0500
TZOFFSETTO:-0600
TZNAME:CST
DTSTART:20191103T070000
END:STANDARD
END:VTIMEZONE
BEGIN:VEVENT
DTSTART;TZID=America/Chicago:20190816T210000
DTEND;TZID=America/Chicago:20190817T233000
DTSTAMP:20260422T040340
CREATED:20190108T153705Z
LAST-MODIFIED:20190807T153146Z
UID:5368-1565989200-1566084600@www.youngavenuedeli.com
SUMMARY:Devil Train
DESCRIPTION:21+ \n$5 Cover
URL:https://www.youngavenuedeli.com/event/devil-train-9/
LOCATION:Young Avenue Deli\, 2119 Young Ave\, Memphis\, TN\, 38104\, United States
CATEGORIES:Live Music,Special Events
ATTACH;FMTTYPE=image/jpeg:https://www.youngavenuedeli.com/wp-content/uploads/2019/01/devil-train-.jpeg
GEO:35.119393;-89.9915469
X-APPLE-STRUCTURED-LOCATION;VALUE=URI;X-ADDRESS=Young Avenue Deli 2119 Young Ave Memphis TN 38104 United States;X-APPLE-RADIUS=500;X-TITLE=2119 Young Ave:geo:-89.9915469,35.119393
END:VEVENT
END:VCALENDAR